BEGIN:VCALENDAR
VERSION:2.0
PRODID:-//Diàleg Obert - ECPv6.15.20//NONSGML v1.0//EN
CALSCALE:GREGORIAN
METHOD:PUBLISH
X-ORIGINAL-URL:https://dialegobert.com
X-WR-CALDESC:Events for Diàleg Obert
REFRESH-INTERVAL;VALUE=DURATION:PT1H
X-Robots-Tag:noindex
X-PUBLISHED-TTL:PT1H
BEGIN:VTIMEZONE
TZID:Europe/Madrid
BEGIN:DAYLIGHT
TZOFFSETFROM:+0100
TZOFFSETTO:+0200
TZNAME:CEST
DTSTART:20230326T010000
END:DAYLIGHT
BEGIN:STANDARD
TZOFFSETFROM:+0200
TZOFFSETTO:+0100
TZNAME:CET
DTSTART:20231029T010000
END:STANDARD
BEGIN:DAYLIGHT
TZOFFSETFROM:+0100
TZOFFSETTO:+0200
TZNAME:CEST
DTSTART:20240331T010000
END:DAYLIGHT
BEGIN:STANDARD
TZOFFSETFROM:+0200
TZOFFSETTO:+0100
TZNAME:CET
DTSTART:20241027T010000
END:STANDARD
BEGIN:DAYLIGHT
TZOFFSETFROM:+0100
TZOFFSETTO:+0200
TZNAME:CEST
DTSTART:20250330T010000
END:DAYLIGHT
BEGIN:STANDARD
TZOFFSETFROM:+0200
TZOFFSETTO:+0100
TZNAME:CET
DTSTART:20251026T010000
END:STANDARD
BEGIN:DAYLIGHT
TZOFFSETFROM:+0100
TZOFFSETTO:+0200
TZNAME:CEST
DTSTART:20260329T010000
END:DAYLIGHT
BEGIN:STANDARD
TZOFFSETFROM:+0200
TZOFFSETTO:+0100
TZNAME:CET
DTSTART:20261025T010000
END:STANDARD
END:VTIMEZONE
BEGIN:VEVENT
DTSTART;TZID=Europe/Madrid:20250520T100000
DTEND;TZID=Europe/Madrid:20250525T020000
DTSTAMP:20260420T165216
CREATED:20250508T120443Z
LAST-MODIFIED:20250508T120835Z
UID:953-1747735200-1748138400@dialegobert.com
SUMMARY:FORMATEM. Taller de PerformanceArt con Stephan Us
DESCRIPTION:Datos\nFecha: 20-25 Mayo\nHorario: 10:00 a 14:00h\nLugar: Teatre El Musical\n\n\nPrecio: 70 €\nInscripción: https://www.valencia.es/web/guest/w/performance-como-deseo.-taller-de-performanceart\n\n\n\nDescripción\n\n¿Siempre has querido encontrar una expresión para lo indescriptible que llevas dentro? ¿Quieres sentir el corazón anárquico de la expresión? Performance-como deseo es un laboratorio de artes efímeras creado por Stephan US\, donde jugamos\, experimentamos e investigamos con los lenguajes\, formas y técnicas de la vida humana y performance art hasta acercarnos a la expresión sin estructuras ni límites. Durante seis días\, exploramos los límites del tiempo\, el espacio\, nuestros cuerpos y las cosas desde diferentes perspectivas en ejercicios\, acciones y actuaciones para desarrollar un nuevo vocabulario en esta interacción\, quizás un idioma importante de nuestro tiempo. \nStephan US es artista\, curador y profesor de performance en Münster. El foco de su trabajo artístico es la performance art porque la considera la expresión más libre que ha encontrado en el arte\, ya que tiene esa libertad en lo procesual\, abierto a todas las posibilidades: la obra performática se puede expresarse en una danza\, en un dibujo\, en un vídeo\, en un sonido o en una instalación\, según lo que necesite la esencia de la obra. Desde 1994 ha realizado más de 450 obras en Alemania y el extranjero. Desde 2001\, se ocupa intensamente en desarrollar el concepto de La Nada y los vacíos relacionados: el silencio\, el hueco\, los agujeros y la ausencia. En casi todo su trabajo experimenta e investiga en estas interfaces vacías\, estas manifestaciones esenciales de la nada\, en los sistemas de pensamiento elevado\, cotidiano y subcultural. Está creando el único archivo que trabaja en el concepto de la Nada en el mundo\, que se creó en 2006 y desde entonces se ha convertido en la información más extensa sobre este tema. El foco de su trabajo curatorial está centrado en el espacio público\, las cuestiones sociales asociadas y la participación de la población local.\nDesde 1999 ha trabajado como director artístico de diversos proyectos de artes escénicas\, festivales y exposiciones interdisciplinarias\, entre ellos para el grupo cultural germano-holandés GrensWerte y el festival de performance P.P.P. Pasado.Presente.Performance. \n\n\nMetodología\nEl taller está basado en la práctica\, se da a los participantes la posibilidad de desarrollar una visión profunda desde diferentes puntos de vista del arte de la performance. Se proponen diferentes ejercicios que abordan las principales cuestiones del arte de la performance\, como la relación espacio-cuerpo\, el significado y la función del tiempo y el concepto del “otro”. El objetivo a alcanzar a través de estos elementos es la posibilidad de encontrar la expresión genuina dentro de los ejercicios generales. También se focalizará en el trabajo en equipo\, formando dúos\, tríos o colectivos. Asimismo\, en este taller de performance art se propondrán ejercicios para la investigación de la relación entre nosotros y los demás; los mecanismos de la interacción\, y las fronteras definidas de la interacción a través del uso de la tecnología actual.\n\nObjectivos\n– Obtener las herramientas performáticas del tiempo y el espacio en relación con lo inesperado y lo genuino de cada uno.\n– Practicar con los objetos del deseo que cada participante tenga de una manera performática.\n– Cuestionar el tiempo real del reloj y proponer otra manera de ver el tiempo más subjetiva.\n– Experimentar la relación del cuerpo y la tierra de una manera performática.\n– Reconocer la idea de que la mayoría de las identidades humanas están preformadas y abrazadas a través de los vehículos de la religión\, el nacionalismo y el materialismo y perseguir temporalmente el desprendimiento de estas identidades pre-empaquetadas en un esfuerzo por descubrir algo nuevo sobre uno mismo y\, a su vez\, utilizar ese nuevo conocimiento para formar intercambios basados en la acción dentro del contexto del taller.\n– Utilizar una metodología de análisis de la relación dinámica entre nuestro ser (el “yo”) y el entorno humano que nos rodea (el “otro”)\, y así ayudar a encontrar un modelo\, en términos conceptuales y mediáticos\, de nuestra interacción con el mundo.
URL:https://dialegobert.com/event/formatem-taller-de-performanceart-con-stephan-us/
CATEGORIES:FORMACIÓN
ATTACH;FMTTYPE=image/jpeg:https://dialegobert.com/wp-content/uploads/2025/05/Stephan-US-1.jpg
ORGANIZER;CN="Teatre el Mucisal":MAILTO:taquillateatreelmusical@valencia.es
END:VEVENT
BEGIN:VEVENT
DTSTART;TZID=Europe/Madrid:20250304T100000
DTEND;TZID=Europe/Madrid:20250309T140000
DTSTAMP:20260420T165216
CREATED:20250203T090257Z
LAST-MODIFIED:20250203T090938Z
UID:708-1741082400-1741528800@dialegobert.com
SUMMARY:FORMATEM. Taller de PerformanceArt con ExchangeLiveArt
DESCRIPTION:Datos\n\nFecha: 04-09 marzo\nHorario: 10:00 a 14:00h\n\n\nLugar: Teatre El Musical\nPrecio: 70 €\n\n\n\nInscripción: https://www.valencia.es/web/guest/w/taller-de-performanceart \nDescripción \n\nEl taller que desde EXCHANGE Live Art proponemos\, está planteado como un laboratorio creativo siguiendo los mismos principios con los que trabajamos en los proyectos que llevamos a cabo en otros contextos. Está\, por tanto\, basado en la reflexión en torno a la comunicación y los procesos creativos compartidos\, tomando el arte de acción como principal herramienta creativa. Para ello\, reflexionamos\, dialogamos y creamos en torno a la “partitura” (o guión de performance) como paradigma de mensaje que debe ser interpretado tanto artística como semánticamente\, ofreciendo una revisión sobre las diferentes opciones de elaboración\, presentación\, interpretación y reinterpretación de dicha partitura (o idea). Asimismo\, nos interesa cuestionar el concepto de autoría\, por lo que trabajamos en procesos creativos compartidos\, proponiendo acciones colectivas en las que la suma de las diferentes individualidades hace posible la existencia de dicha obra.\n/\nEXCHANGE Live Art es un proyecto creado por las artistas Ana Matey e Isabel León que investiga sobre la comunicación y los procesos creativos compartidos tomando el arte de acción como principal herramienta artística. Comenzó su andadura en el año 2012 y desde entonces han realizado más de 30 ediciones con diversas actividades que incluyen residencias y laboratorios artísticos\, exposiciones y eventos de performance art en vivo\, además de talleres\, charlas y mesas redondas. Han contado con la participación de 66 artistas de diversas generaciones y nacionalidades incluyendo España\, Noruega\, Canadá\, Finlandia\, Israel\, Túnez\, Camerún\, Marruecos\, México y Venezuela.“Entendemos el arte como un lugar de encuentro\, un espacio donde cuestionarnos sobre cómo nos relacionamos\, poniendo especial atención en cómo nos comunicamos\, aspecto fundamental en las relaciones y causante tanto de malos entendidos como de situaciones divertidas. Tomar conciencia del uso que damos del lenguaje -verbal\, corporal\, artístico…- es fundamental para relacionarnos de manera saludable. Por ese motivo\, desde EXCHANGE Live Art llevamos más de una década investigando y creando en torno a la comunicación y los procesos creativos compartidos”.\n\nMetodologia\n“La performance no se enseña\, se practica”. Esther Ferrer.\n\nParte parcial de esta premisa\, proponemos un taller que se asienta sobre la vivencia y la propia práctica del arte de acción\, tomando la “partitura de performance” como elemento principal en el bazar de los ejercicios. Esta práctica irá acompañada de una reflexión y puesta en común en las que se trabajarán los contenidos teóricos\, ayudando a afianzar los conocimientos adquiridos a partir de la experiencia. El primer paso será discutir la relación entre el proceso creativo y el proceso de comunicación\, para ello\, realizaremos ejercicios y acciones sobre las principales herramientas con las que se trabaja en el arte de acción. Estas herramientas podrán ser utilizadas por varios participantes\, pudiendo utilizarlas de forma totalmente personal. El método incluye el uso de medios audiovisuales (fotografía y vídeo) como herramientas documentales y creativas: receptores y emisores. Para nuestro taller no se necesita tener ningún tipo de habilidad técnica\, manual o corporal\, solo querer experimentar un proceso de comunicación-creación con otras personas y expresar ideas\, pensamientos y emociones.\n\nObjetivos\n– Reflexionar sobre la relación entre el proceso creativo y el comunicativo: binomio creación-comunicación.\n– Conocer las principales herramientas y características del arte de acción o performance art.\n– Valorar los diferentes tipos de comunicar una acción: en vivo\, en fotografía\, vídeo\, palabra…\n– Crear a partir de propuestas colectivas sumando individualidades: ser tú dentro del colectivo.\n– Apreciar las sutilezas de la comunicación y el lenguaje (verbal y no verbal) y utilizarlas como material de trabajo.\n– Propiciar la escucha y la alerta como aspectos fundamentales del proceso comunicativo\, y por tanto\, creativo.\n– Promover la creatividad a través de ejercicios que estimulen y desinhiben.
URL:https://dialegobert.com/event/formatem-taller-de-performanceart-con-exchangeliveart/
LOCATION:Teatre el Musical\, Pl. del Rosari\, 3\, Poblats Marítims\, Valencia\, Valencia\, 46011\, Spain
CATEGORIES:FORMACIÓN
ATTACH;FMTTYPE=image/jpeg:https://dialegobert.com/wp-content/uploads/2025/02/1-MARZO-EXCHANGE-web-1.jpg
ORGANIZER;CN="Teatre el Mucisal":MAILTO:taquillateatreelmusical@valencia.es
END:VEVENT
BEGIN:VEVENT
DTSTART;TZID=Europe/Madrid:20241207T110000
DTEND;TZID=Europe/Madrid:20241208T140000
DTSTAMP:20260420T165216
CREATED:20241203T094838Z
LAST-MODIFIED:20241203T094838Z
UID:614-1733569200-1733666400@dialegobert.com
SUMMARY:ACCIÓN!LAB. LABORATORIO DE ARTES INTERMEDIAS
DESCRIPTION:ACCIÓN!LAB. LABORATORIO DE ARTES INTERMEDIAS\nTaller de PerformanceArt >Zona temporalmente autónoma: improvisación y composición en la intermedia: performance art\, voz\, música experimental y poesía. \nFecha: 7 y 8 de diciembre de 11:00h a 14:00h. \nLugar: Centre del Carme\, Sala Refectorio \nOrganiza: Consorci de Museus de la Comunitat Valenciana i Plataforma Diàleg Obert \n  \nSin inscripción previa\, hasta completar aforo \n  \nESCUCHA! València\, la Exposición internacional de Artes Efímeras y Experimentación Sonora presenta: ACCIÓN!LAB\, un espacio de experimentación colectiva impartido por la plataforma artística Diàleg Obert\, coordinado por Lorena Izquierdo. \nACCIÓN!LAB el Laboratorio de Artes Intermedia\, consolida los espacios de experimentación colectiva para artistas locales\, donde se quiere desarrollar\, cuestionar y reflexionar sobre la práctica artística viva\, así como potenciar el desarrollo\, la profesionalización y cooperación artística. \nEl taller se centra en la experimentación\, improvisación y creación colectiva entre artistas de varias disciplinas\, como el arte performático\,la voz\, la música experimental\, la poesía\, la danza y la palabra. Se crea así un espacio donde todas ellas se encuentran para facilitar el uso colectivo del tiempo y el espacio en la creación viva. El diálogo que se construye potencia tanto de cada artista individualmente como de todas en colectivo. \nBuscamos desde la intuición\, la telepatía y los límites de la percepción y la experiencia\,desde lo imposible. Transitamos por el grito\, la exageración pero también por la contención y lo invisible\, todo esto para habitar las paradojas. \nEl laboratorio va dirigido a estudiantes\, investigadores y artistas de cualquier disciplina que quieran desarrollar su obra a través de la experimentación y creación performativa que deseen profundizar en la práctica y al público general\, en definitiva a todos aquellos que quieran explorar el cuerpo como elemento de trabajo.
URL:https://dialegobert.com/event/accionlab-laboratorio-de-artes-intermedias/
CATEGORIES:FORMACIÓN
ATTACH;FMTTYPE=image/jpeg:https://dialegobert.com/wp-content/uploads/2024/12/07-Y-08-DICIEMBRE-ACCION-LAB.jpg
ORGANIZER;CN="Consorci de Museus de la Comunitat Valenciana":MAILTO:consorcidemuseus@gva.es
END:VEVENT
END:VCALENDAR